BEGIN:VCALENDAR
VERSION:2.0
PRODID:-//MTK Group - ECPv6.8.3//NONSGML v1.0//EN
CALSCALE:GREGORIAN
METHOD:PUBLISH
X-ORIGINAL-URL:https://methtestingkit.com.au
X-WR-CALDESC:Events for MTK Group
REFRESH-INTERVAL;VALUE=DURATION:PT1H
X-Robots-Tag:noindex
X-PUBLISHED-TTL:PT1H
BEGIN:VTIMEZONE
TZID:Australia/Brisbane
BEGIN:STANDARD
TZOFFSETFROM:+1000
TZOFFSETTO:+1000
TZNAME:AEST
DTSTART:20200101T000000
END:STANDARD
END:VTIMEZONE
BEGIN:VEVENT
DTSTART;TZID=Australia/Brisbane:20201030T090000
DTEND;TZID=Australia/Brisbane:20201030T130000
DTSTAMP:20260424T104900
CREATED:20200429T012108Z
LAST-MODIFIED:20201011T233008Z
UID:124317-1604048400-1604062800@methtestingkit.com.au
SUMMARY:Meth Testing Training Webinar Course - 30th October 2020
DESCRIPTION:Meth Testing Training Webinar Course\n\nBecome a certified Methamphetamine Sampling Technician.  Our course is the most comprehensive course in Australia that Strictly follows the Australian National Guidelines and State Local Government direction. Nationally Recognized Course and Professional Indemnity approved course.  You will be taught all aspects of testing and why some testing is not recognized and should not be done.  Best practice is in accordance with Government guidelines. \nThis is not a pre-recorded course so any questions you may have can be answered during the webinar session. \n\n\nMeth Testing Training Meth Testing Course Meth testing training Webinar course\n 
URL:https://methtestingkit.com.au/event/meth-testing-training-webinar-course-3/
LOCATION:Zoom Webinar\, Australia
CATEGORIES:Webinar
ATTACH;FMTTYPE=image/jpeg:https://methtestingkit.com.au/wp-content/uploads/2019/12/lowres-e1576814275776.jpg
ORGANIZER;CN="MTK Training & Supplies":MAILTO:rick@mtkgroup.com.au
END:VEVENT
BEGIN:VEVENT
DTSTART;TZID=Australia/Brisbane:20201030T090000
DTEND;TZID=Australia/Brisbane:20201030T163000
DTSTAMP:20260424T104900
CREATED:20200430T035046Z
LAST-MODIFIED:20201011T231733Z
UID:124348-1604048400-1604075400@methtestingkit.com.au
SUMMARY:Science Research Based Meth Decontamination Webinar Course
DESCRIPTION:Meth Decontamination Training Webinar Course\n\nBecome a certified Methamphetamine Decontamination Technician.  Our course follows the Australian National Guidelines and State Local Government direction. You will learn how to cost out and quote decontamination jobs\, you will learn how to perform decontamination successfully in a cost-effective manner. You will learn how to sign off on completed jobs. This is a Nationally Recognised Course Professional Indemnity approved course. \nThis is not a pre-recorded course so any questions you may have can be answered during the webinar session. \n\n\nMeth Decontamination Training Webinar Course\n 
URL:https://methtestingkit.com.au/event/meth-decontamination-training-webinar-course/
LOCATION:Zoom Webinar\, Australia
CATEGORIES:Decon Webinar,Webinar
ATTACH;FMTTYPE=image/jpeg:https://methtestingkit.com.au/wp-content/uploads/2018/05/MethLabCleanup.jpg
ORGANIZER;CN="MTK Training & Supplies":MAILTO:rick@mtkgroup.com.au
END:VEVENT
END:VCALENDAR