BEGIN:VCALENDAR
VERSION:2.0
PRODID:-//MTK Group - ECPv6.8.3//NONSGML v1.0//EN
CALSCALE:GREGORIAN
METHOD:PUBLISH
X-WR-CALNAME:MTK Group
X-ORIGINAL-URL:https://methtestingkit.com.au
X-WR-CALDESC:Events for MTK Group
REFRESH-INTERVAL;VALUE=DURATION:PT1H
X-Robots-Tag:noindex
X-PUBLISHED-TTL:PT1H
BEGIN:VTIMEZONE
TZID:Australia/Brisbane
BEGIN:STANDARD
TZOFFSETFROM:+1000
TZOFFSETTO:+1000
TZNAME:AEST
DTSTART:20200101T000000
END:STANDARD
END:VTIMEZONE
BEGIN:VEVENT
DTSTART;TZID=Australia/Brisbane:20201009T090000
DTEND;TZID=Australia/Brisbane:20201009T163000
DTSTAMP:20260424T122000
CREATED:20200430T035120Z
LAST-MODIFIED:20200917T004340Z
UID:124351-1602234000-1602261000@methtestingkit.com.au
SUMMARY:Meth Decontamination Training Webinar Course - August 21st 2020
DESCRIPTION:Meth Decontamination Training Webinar Course\n\nBecome a certified Methamphetamine Decontamination Technician.  Our course follows the Australian National Guidelines and State Local Government direction\, we also cover aspects of the Voluntary Code of Practice where it complies with the Government Guidelines. You will learn how to cost out and quote decontamination jobs\, you will learn how to perform decontamination successfully in a cost-effective manner. You will learn how to sign off on completed jobs. This is a Nationally Recognized Course that enables you to apply for Professional Indemnity. \nThis is not a pre-recorded course so any questions you may have can be answered during the webinar session. \n\n\nMeth Decontamination Training Webinar Course\n 
URL:https://methtestingkit.com.au/event/meth-decontamination-training-webinar-course-2/
LOCATION:Zoom Webinar\, Australia
CATEGORIES:Decon Webinar,Webinar
ATTACH;FMTTYPE=image/jpeg:https://methtestingkit.com.au/wp-content/uploads/2018/05/MethLabCleanup.jpg
ORGANIZER;CN="MTK Training & Supplies":MAILTO:rick@mtkgroup.com.au
END:VEVENT
END:VCALENDAR