BEGIN:VCALENDAR
VERSION:2.0
PRODID:-//MTK Group - ECPv6.8.3//NONSGML v1.0//EN
CALSCALE:GREGORIAN
METHOD:PUBLISH
X-WR-CALNAME:MTK Group
X-ORIGINAL-URL:https://methtestingkit.com.au
X-WR-CALDESC:Events for MTK Group
REFRESH-INTERVAL;VALUE=DURATION:PT1H
X-Robots-Tag:noindex
X-PUBLISHED-TTL:PT1H
BEGIN:VTIMEZONE
TZID:Australia/Brisbane
BEGIN:STANDARD
TZOFFSETFROM:+1000
TZOFFSETTO:+1000
TZNAME:AEST
DTSTART:20200101T000000
END:STANDARD
END:VTIMEZONE
BEGIN:VEVENT
DTSTART;TZID=Australia/Brisbane:20200918T090000
DTEND;TZID=Australia/Brisbane:20200918T130000
DTSTAMP:20260424T135329
CREATED:20200804T122429Z
LAST-MODIFIED:20200916T233953Z
UID:124668-1600419600-1600434000@methtestingkit.com.au
SUMMARY:Meth Testing Training Course Webinar - Government Guidelines Based
DESCRIPTION:Meth Testing Training Course Webinar\n\nBecome a certified Methamphetamine Sampling Technician.  Our course is the most comprehensive course in Australia that strictly follows the Australian Government Guidelines and State Local Government direction. This is a nationally recognized course that will enable you to attain professional indemnity.  You will be taught all aspects of testing and why some testing is not recognized and should not be done.  You will learn best practice that is in accordance with the Government Guidelines. \nMTK Group is associated with QAEHS at the University of Queensland for research into methamphetamine decontamination and third hand exposure to methamphetamine. \nThis is not a pre-recorded course so any questions you may have can be answered during the webinar session. \n\n\nMeth Testing Training Meth Testing Course Meth testing training Webinar course\n 
URL:https://methtestingkit.com.au/event/meth-testing-training-course/
LOCATION:Zoom Webinar\, Australia
CATEGORIES:Meth Testing Webinar,Webinar
ATTACH;FMTTYPE=image/jpeg:https://methtestingkit.com.au/wp-content/uploads/2019/12/lowres-e1576814275776.jpg
ORGANIZER;CN="MTK Training & Supplies":MAILTO:rick@mtkgroup.com.au
END:VEVENT
BEGIN:VEVENT
DTSTART;TZID=Australia/Brisbane:20200918T090000
DTEND;TZID=Australia/Brisbane:20200918T163000
DTSTAMP:20260424T135329
CREATED:20200430T034342Z
LAST-MODIFIED:20200916T230252Z
UID:124342-1600419600-1600446600@methtestingkit.com.au
SUMMARY:Science Research Based Meth Decontamination Course Webinar
DESCRIPTION:Science Researched based Meth Decontamination Training Course Webinar\n\nBecome a certified Methamphetamine Decontamination Technician.  Our Meth decontamination training course is based on scientific research and also follows the Government National Guidelines with State Government direction. You will learn how to cost out and quote decontamination jobs\, you will learn how to perform decontamination successfully in a cost-effective manner. You will learn how to sign off on completed jobs. This is a nationally recognized course and you will be eligible to apply for Professional Indemnity Insurance. \nThis is not a pre-recorded course so any questions you may have can be answered during the webinar session. \n\n\nResearch based Meth Decontamination Training Course\n 
URL:https://methtestingkit.com.au/event/meth-decontamination-training-course/
LOCATION:Zoom Webinar\, Australia
CATEGORIES:Decon Webinar,Webinar
ATTACH;FMTTYPE=image/jpeg:https://methtestingkit.com.au/wp-content/uploads/2018/05/MethLabCleanup.jpg
ORGANIZER;CN="MTK Training & Supplies":MAILTO:rick@mtkgroup.com.au
END:VEVENT
END:VCALENDAR